BEGIN:VCALENDAR
VERSION:2.0
PRODID:-//Beach Front Dance - ECPv6.15.14//NONSGML v1.0//EN
CALSCALE:GREGORIAN
METHOD:PUBLISH
X-WR-CALNAME:Beach Front Dance
X-ORIGINAL-URL:https://beachfrontdance.org
X-WR-CALDESC:Events for Beach Front Dance
REFRESH-INTERVAL;VALUE=DURATION:PT1H
X-Robots-Tag:noindex
X-PUBLISHED-TTL:PT1H
BEGIN:VTIMEZONE
TZID:UTC
BEGIN:STANDARD
TZOFFSETFROM:+0000
TZOFFSETTO:+0000
TZNAME:UTC
DTSTART:20240101T000000
END:STANDARD
END:VTIMEZONE
BEGIN:VEVENT
DTSTART;VALUE=DATE:20250401
DTEND;VALUE=DATE:20250402
DTSTAMP:20260420T012313
CREATED:20230828T171031Z
LAST-MODIFIED:20240814T212354Z
UID:64197-1743465600-1743551999@beachfrontdance.org
SUMMARY:Session Eight Tuition Due
DESCRIPTION:
URL:https://beachfrontdance.org/event/session-eight-tuition-due/
END:VEVENT
BEGIN:VEVENT
DTSTART;VALUE=DATE:20250416
DTEND;VALUE=DATE:20250422
DTSTAMP:20260420T012313
CREATED:20230828T172548Z
LAST-MODIFIED:20240814T213947Z
UID:64212-1744761600-1745279999@beachfrontdance.org
SUMMARY:BDS Closed-Easter Holiday
DESCRIPTION:Beachfront Dance School will be closed for the Easter Holiday. Classes will resume on Tuesday\, April 22nd. Have a great break.
URL:https://beachfrontdance.org/event/bds-easter-holiday/
END:VEVENT
END:VCALENDAR