BEGIN:VCALENDAR
VERSION:2.0
PRODID:-//Beach Front Dance - ECPv6.15.14//NONSGML v1.0//EN
CALSCALE:GREGORIAN
METHOD:PUBLISH
X-WR-CALNAME:Beach Front Dance
X-ORIGINAL-URL:https://beachfrontdance.org
X-WR-CALDESC:Events for Beach Front Dance
REFRESH-INTERVAL;VALUE=DURATION:PT1H
X-Robots-Tag:noindex
X-PUBLISHED-TTL:PT1H
BEGIN:VTIMEZONE
TZID:UTC
BEGIN:STANDARD
TZOFFSETFROM:+0000
TZOFFSETTO:+0000
TZNAME:UTC
DTSTART:20240101T000000
END:STANDARD
END:VTIMEZONE
BEGIN:VEVENT
DTSTART;VALUE=DATE:20250926
DTEND;VALUE=DATE:20250929
DTSTAMP:20260419T183630
CREATED:20251007T165917Z
LAST-MODIFIED:20251007T165917Z
UID:64366-1758844800-1759103999@beachfrontdance.org
SUMMARY:Fall Break
DESCRIPTION:Per the 2025-2026 Dance Calendar\, BDS is closed September 26-28\, 2025 for Fall Break.
URL:https://beachfrontdance.org/event/fall-break/
END:VEVENT
END:VCALENDAR