BEGIN:VCALENDAR
VERSION:2.0
PRODID:-//Beach Front Dance - ECPv6.15.14//NONSGML v1.0//EN
CALSCALE:GREGORIAN
METHOD:PUBLISH
X-ORIGINAL-URL:https://beachfrontdance.org
X-WR-CALDESC:Events for Beach Front Dance
REFRESH-INTERVAL;VALUE=DURATION:PT1H
X-Robots-Tag:noindex
X-PUBLISHED-TTL:PT1H
BEGIN:VTIMEZONE
TZID:UTC
BEGIN:STANDARD
TZOFFSETFROM:+0000
TZOFFSETTO:+0000
TZNAME:UTC
DTSTART:20240101T000000
END:STANDARD
END:VTIMEZONE
BEGIN:VEVENT
DTSTART;TZID=UTC:20250921T150000
DTEND;TZID=UTC:20250921T200000
DTSTAMP:20260419T183237
CREATED:20251007T170133Z
LAST-MODIFIED:20251007T170133Z
UID:64368-1758466800-1758484800@beachfrontdance.org
SUMMARY:Fest in the 1st
DESCRIPTION:Please come out for Miller Beach’s Fest in the First. The Fest is from 3-8PM. Support BDS dancers at their 3:30PM performance out on Lake Street!
URL:https://beachfrontdance.org/event/fest-in-the-1st-2/
END:VEVENT
END:VCALENDAR